BEGIN:VCALENDAR
VERSION:2.0
PRODID:-//St Julians Club, Sevenoaks, Kent - ECPv6.15.20//NONSGML v1.0//EN
CALSCALE:GREGORIAN
METHOD:PUBLISH
X-ORIGINAL-URL:https://stjulians.co.uk
X-WR-CALDESC:Events for St Julians Club, Sevenoaks, Kent
REFRESH-INTERVAL;VALUE=DURATION:PT1H
X-Robots-Tag:noindex
X-PUBLISHED-TTL:PT1H
BEGIN:VTIMEZONE
TZID:Europe/London
BEGIN:DAYLIGHT
TZOFFSETFROM:+0000
TZOFFSETTO:+0100
TZNAME:BST
DTSTART:20250330T010000
END:DAYLIGHT
BEGIN:STANDARD
TZOFFSETFROM:+0100
TZOFFSETTO:+0000
TZNAME:GMT
DTSTART:20251026T010000
END:STANDARD
BEGIN:DAYLIGHT
TZOFFSETFROM:+0000
TZOFFSETTO:+0100
TZNAME:BST
DTSTART:20260329T010000
END:DAYLIGHT
BEGIN:STANDARD
TZOFFSETFROM:+0100
TZOFFSETTO:+0000
TZNAME:GMT
DTSTART:20261025T010000
END:STANDARD
BEGIN:DAYLIGHT
TZOFFSETFROM:+0000
TZOFFSETTO:+0100
TZNAME:BST
DTSTART:20270328T010000
END:DAYLIGHT
BEGIN:STANDARD
TZOFFSETFROM:+0100
TZOFFSETTO:+0000
TZNAME:GMT
DTSTART:20271031T010000
END:STANDARD
END:VTIMEZONE
BEGIN:VEVENT
DTSTART;TZID=Europe/London:20260122T190000
DTEND;TZID=Europe/London:20260122T200000
DTSTAMP:20260419T133922
CREATED:20251216T112638Z
LAST-MODIFIED:20251216T150816Z
UID:15762-1769108400-1769112000@stjulians.co.uk
SUMMARY:Mental Wellbeing Talk
DESCRIPTION:Mental Wellbeing – a Toolkit for you and your loved ones  \nDate:  Thursday 22nd January\nTime: 7pm\nCost: FREE for members & £5 for guests\n \nTop tips and tools to reduce stress and sleep well. \nSixty minutes of talk\, tools\, questions and discussion from Joanna Hogan\, Senior CBT therapist and David O’Regan\, Sleep Physician and Psychiatrist at Sleep London. \nContact us to book your place!
URL:https://stjulians.co.uk/event/mental-wellbeing/
CATEGORIES:Upcoming Events
ATTACH;FMTTYPE=image/jpeg:https://stjulians.co.uk/wp-content/uploads/2025/12/Jo-Hogan.jpg
END:VEVENT
END:VCALENDAR